BEGIN:VCALENDAR
VERSION:2.0
PRODID:-//Squarespace Inc/Squarespace 6//v6//EN
BEGIN:VEVENT
UID:5e2a40679bccd63beb7946a5@squarespace.com
DTSTAMP:20200124T005928Z
DTSTART:20200125T204500Z
DTEND:20200126T000000Z
SUMMARY:Australia Day Celebrations
END:VEVENT
END:VCALENDAR
